BEGIN:VCALENDAR
VERSION:2.0
PRODID:-//Stadtgeschichte München//DE
CALSCALE:GREGORIAN
BEGIN:VEVENT
UID:2058@stadtgeschichte-muenchen.de
SUMMARY:Ein Stadtrat aus dem Münchner Osten stellt das Münchner Rathaus vor
DESCRIPTION:&lt;div&gt;Das neugotische M&amp;uuml;nchner Rathaus ist ein Touristenmagnet. Aber wer kennt sich als Einheimischer wirklich im Inneren aus? Lassen Sie&amp;nbsp;sich von einem Stadtrat aus dem M&amp;uuml;nchner Osten in die Baugeschichte des Geb&amp;auml;udes ebenso einweihen wie in die konkrete Arbeit des&amp;nbsp;80-k&amp;ouml;pfigen Stadtrates. Die Sacharbeit des Stadtrats wird vielfach in seinen Aussch&amp;uuml;ssen geleistet. Dort kommen die konkreten Themen&amp;nbsp;und Fragen auch einzelner Stadtviertel zur Sprache. Nach dem Besuch einer Sitzung wird erl&amp;auml;utert, welche Entscheidungen f&amp;uuml;r &amp;ouml;stliche&amp;nbsp;Stadtviertel derzeit anstehen, wie die Entscheidungsprozesse verlaufen und wie Interessen der B&amp;uuml;rger/innen in Stadtratsbeschl&amp;uuml;sse&amp;nbsp;Eingang finden.&lt;/div&gt;
DTSTART:20120420T130000
DTEND:20120420T150000
LOCATION:Rathaus, an der Pforte (rechts vom Ratskeller) 
ORGANIZER:MVHS München Mitte   
END:VEVENT
END:VCALENDAR