BEGIN:VCALENDAR
VERSION:2.0
PRODID:-//Stadtgeschichte München//DE
CALSCALE:GREGORIAN
BEGIN:VEVENT
UID:206@stadtgeschichte-muenchen.de
SUMMARY:Die Bayerische Staatsbibliothek
DESCRIPTION:&lt;p&gt;Mit &amp;uuml;ber 9,5 Millionen B&amp;uuml;chern, ungef&amp;auml;hr 55000 laufenden Zeitschriften und ca. 93000 Handschriften ist die Bayerische Staatsbibliothek eine der bedeutendsten Quellensammlungen der Welt. 1558 gegr&amp;uuml;ndet als Hofbibliothek der Wittelsbacher, ist sie heute die zentrale Landesbibliothek des Freistaates Bayern und eine der bedeutendsten europ&amp;auml;ischen Universalbibliotheken. Sie genie&amp;szlig;t als internationale Forschungsbibliothek Weltrang. Was verbirgt sich hinter den Mauern, wenn man die Treppe mit den &amp;bdquo;Vier Heiligen Drei K&amp;ouml;nigen&amp;quot; hinaufgeht? Werfen Sie einen Blick hinter die Kulissen.&lt;/p&gt;
DTSTART:20110406T160000
DTEND:20110406T180000
LOCATION:Ludwigstr. 16 (Eingangshalle vor dem Treppenaufgang) 
ORGANIZER:MVHS München Mitte   
END:VEVENT
END:VCALENDAR