BEGIN:VCALENDAR
VERSION:2.0
PRODID:-//Stadtgeschichte München//DE
CALSCALE:GREGORIAN
BEGIN:VEVENT
UID:2060@stadtgeschichte-muenchen.de
SUMMARY:Vom Karl-Preis-Platz nach Maria Ramersdorf
DESCRIPTION:&lt;div&gt;Die F&amp;uuml;hrung beginnt beim Stadtteilladen kpp4, der im Rahmen der Sozialen Stadt M&amp;uuml;nchen eingerichtet wurde. 2009/2010 wurde der&amp;nbsp;Karl-Preis-Platz mit seinem Melusinenbrunnen und der Skulptur des Blockwalzers umgestaltet. Abseits der lauten Rosenheimer Stra&amp;szlig;e&amp;nbsp;f&amp;uuml;hrt dann der Weg durch die unter Ensembleschutz gestellte und idyllisch anmutende Weiskopfsiedlung, erbaut um die&amp;nbsp;Jahrhundertwende. Auf dem Weg zur Kirche liegt die F&amp;uuml;hrichschule (erbaut 1915), die eine &amp;uuml;ber Jahrzehnte gef&amp;uuml;hrte &amp;bdquo;gehaltvolle&amp;quot;&amp;nbsp;Schulchronik vorweisen kann. Schlie&amp;szlig;lich die Kirche Maria Ramersdorf, in der bis heute die Wallfahrt lebendig geblieben ist. Der&amp;nbsp;sogenannte &amp;bdquo;Frauendrei&amp;szlig;iger&amp;quot; (15. August bis 14. September) findet seit 1733 bis heute ohne Unterbrechung statt.&lt;/div&gt;
DTSTART:20120823T170000
DTEND:20120823T190000
LOCATION:Stadtteilladen â€¢ Karl-Preis-Platz 4 
ORGANIZER:MVHS München Mitte   
END:VEVENT
END:VCALENDAR