BEGIN:VCALENDAR
VERSION:2.0
PRODID:-//Stadtgeschichte München//DE
CALSCALE:GREGORIAN
BEGIN:VEVENT
UID:2066@stadtgeschichte-muenchen.de
SUMMARY:Kennen Sie München?
DESCRIPTION:&lt;div&gt;Quer durch das Gel&amp;auml;nde zwischen den fr&amp;uuml;heren D&amp;ouml;rfern auf dem Ziegelland im M&amp;uuml;nchner Nordosten geht dieser Stadtteilspaziergang.&amp;nbsp;Dabei werden &amp;Uuml;berreste der ehemaligen Ziegeleien ebenso aufgesp&amp;uuml;rt, wie vom Leben ihrer ehemaligen Besitzer, der &amp;bdquo;Loambarone&amp;quot;,&amp;nbsp;erz&amp;auml;hlt. Wer kennt sie noch, die Reiffenstuel, die Roth, die H&amp;ouml;chl und andere mehr? Welche Rolle spielten sie in der M&amp;uuml;nchner Stadt-,&amp;nbsp;Wirtschafts- und Kulturgeschichte? Auch die Nachfolgenutzungen und die Entstehung der Nachfolgebauten werden er&amp;ouml;rtert.&lt;/div&gt;
DTSTART:20120805T110000
DTEND:20120805T130000
LOCATION:Richard-Strauss-Str./Ecke Buschingstr.
ORGANIZER:MVHS München Mitte   
END:VEVENT
END:VCALENDAR