BEGIN:VCALENDAR
VERSION:2.0
PRODID:-//Stadtgeschichte München//DE
CALSCALE:GREGORIAN
BEGIN:VEVENT
UID:2068@stadtgeschichte-muenchen.de
SUMMARY:Zwischen Prinzregentenplatz und Friedensengel
DESCRIPTION:&lt;div&gt;&amp;bdquo;Die Kunst bl&amp;uuml;ht, die Kunst ist an der Herrschaft, die Kunst streckt ihr rosenumwundenes Zepter &amp;uuml;ber die Stadt hin und l&amp;auml;chelt...&amp;quot;&amp;nbsp;(Thomas Mann: aus Gladius Dei, 1902).&amp;nbsp;Auch in M&amp;uuml;nchen hatte sich um 1900 eine Gruppe von K&amp;uuml;nstlern gegen den historischen Stil der Gr&amp;uuml;nderzeit gewandt und strebte einen&amp;nbsp;neuen Stil an, der alle Lebensbereiche umfasste. Seit der Sp&amp;auml;tgr&amp;uuml;nderzeit wurde an der Prinzregentenstra&amp;szlig;e mit klarer st&amp;auml;dtebaulicher&amp;nbsp;Planung ein weitfl&amp;auml;chiges Villen- und Mietshausviertel errichtet. Im Zweiten Weltkrieg kaum besch&amp;auml;digt, konnte das Viertel seinen&amp;nbsp;Charakter weitgehend erhalten. Der Weg f&amp;uuml;hrt vom Prinzregentenplatz durch das alte Bogenhausen zu der Architektur des Jugendstils,&amp;nbsp;die wesentlich durch das Ornament bestimmt wird. Charakteristisch sind stilisierte, von Naturformen abgeleitete, lineare oder&amp;nbsp;geometrische Schmuckformen. Der Rundgang endet am Friedensengel.&lt;/div&gt;
DTSTART:20120511T140000
DTEND:20120511T160000
LOCATION:Brunnen am Prinzregentenplatz
ORGANIZER:MVHS München Mitte   
END:VEVENT
END:VCALENDAR