BEGIN:VCALENDAR
VERSION:2.0
PRODID:-//Stadtgeschichte München//DE
CALSCALE:GREGORIAN
BEGIN:VEVENT
UID:20692@stadtgeschichte-muenchen.de
SUMMARY:Rechte Gewalt - ziviler Protest
DESCRIPTION:&lt;p&gt;&lt;strong&gt;Vor 40 Jahren erschütterte ein schrecklicher Anschlag München - mitten während des Oktoberfestes. Der Rundgang begibt sich auf die Spuren rechter Gewalt und zeigt Orte des zivilen Protestes gegen rechts.&lt;/strong&gt;&lt;/p&gt; &lt;p&gt;Das Wiesnattentat im September 1980 war nicht die erste oder letzte Gewalttat der extremen Rechten. Mord ist auch nach 1945 ein Mittel rechter Politik. Die Reaktionen&amp;nbsp;von Polizei, Gesellschaft und Politik waren und sind oft verharmlosend. Sie vernachlässigen die Opfer. Im schlimmsten Fall, wie zum Beispiel den NSU-Morden werden die Opfer zu Verdächtigen.&lt;/p&gt; &lt;p&gt;Der strukturelle Rassismus in Behörden, Medien etc. trägt zu einem gesellschaftlichen Klima bei, das solche Gewalttaten mit ermöglicht. Allenfalls zivilgesellschaftliche Projekte und Betroffene&amp;nbsp;setz(t)en sich für Opfer von rechter Diskriminierung und Attacken ein.&lt;/p&gt; &lt;p&gt;Unser Weg führt zu Orten von Attentaten und Anschlägen, beleuchtet die dahinterstehende Ideologie der Täter und ihren Sympathisanten, zeigt aber auch Orte, in denen ziviler Protest gelebt wird.&lt;/p&gt; 
DTSTART:20220326T150000
DTEND:20220326T170000
LOCATION:Schillerstraße 11a (vor der Diskothek Broadway)
ORGANIZER:STATTreisen München e.V.
END:VEVENT
END:VCALENDAR