BEGIN:VCALENDAR
VERSION:2.0
PRODID:-//Stadtgeschichte München//DE
CALSCALE:GREGORIAN
BEGIN:VEVENT
UID:20744@stadtgeschichte-muenchen.de
SUMMARY:Einzelkämpfer
DESCRIPTION:&lt;h2&gt;Aktuelle Dokumentarfilme zu Politik und Gesellschaft&lt;/h2&gt; &lt;p&gt;Die Filmreihe Hier &amp;amp; Jetzt zeigt herausragende zeitgenössische Dokumentarfilme, die sowohl in filmästhetischer als auch in politisch-analytischer Hinsicht neue Perspektiven auf die Bundesrepublik Deutschland eröffnen. Dazu gehören Alltagsbeobachtungen, Porträts von einzelnen Schicksalen, Interviews, Kompilationen, experimentelle Formen oder sozialkritische Analysen unserer Gegenwart.&lt;br /&gt; Im Rahmen des 50. Jubiläums der Olympischen Spiele in München 1972 thematisieren vier unterschiedliche Filme den historischen Kontext, die politische Dimension des Sports und die Nachwirkungen der Münchner Spiele.&lt;br /&gt; &lt;br /&gt; - 24. März: Der elfte Tag – Die Überlebenden von München 1972 (Deutschland 2012)&lt;br /&gt; - 21. April: Mein Weg nach Olympia (Deutschland 2013)&lt;br /&gt; - 23. Juni: Einzelkämpfer (Deutschland 2021)&lt;br /&gt; - 21. Juli: After Munich (Kanada 2019)&lt;br /&gt; &lt;br /&gt; In Kooperation mit dem DOK.fest München&lt;/p&gt; 
DTSTART:20220623T180000
DTEND:20220623T200000
LOCATION:Bildungszentrum, Einsteinstr. 28
ORGANIZER:MVHS
END:VEVENT
END:VCALENDAR