BEGIN:VCALENDAR
VERSION:2.0
PRODID:-//Stadtgeschichte München//DE
CALSCALE:GREGORIAN
BEGIN:VEVENT
UID:20747@stadtgeschichte-muenchen.de
SUMMARY:Coronavirus in München
DESCRIPTION:&lt;p&gt;Der Medizinhistoriker Malte Thießen beschreibt Seuchen als die &quot;sozialsten aller Krankheiten&quot;, da sie die gesamte Gesellschaft betreffen. Auch in München blicken wir auf Erfahrungen aus zwei Jahren zurück, in denen wir lernen mussten, mit dem Coronavirus zu leben. Die Coronapandemie hat offengelegt, wie wichtig ein funktionierender öffentlicher Gesundheitsdienst und die medizinische Versorgung in München sind. Beatrix Zurek, die Gesundheitsreferentin der LH München, und Dr. Axel Fischer, Vorsitzender der Geschäftsführung der München Klinik, berichten über ihre Erfahrungen während der Krise und diskutieren über die Lehren aus der Pandemie.&lt;/p&gt; 
DTSTART:20220407T180000
DTEND:20220407T193000
LOCATION:Bildungszentrum, Einsteinstr. 28
ORGANIZER:MVHS
END:VEVENT
END:VCALENDAR