BEGIN:VCALENDAR
VERSION:2.0
PRODID:-//Stadtgeschichte München//DE
CALSCALE:GREGORIAN
BEGIN:VEVENT
UID:2075@stadtgeschichte-muenchen.de
SUMMARY:Generalprobe im Prinzregententheater
DESCRIPTION:&lt;div&gt;Besuch der Generalprobe &amp;bdquo;Das schlaue F&amp;uuml;chslein&amp;quot;, eine Oper in drei Akten von Leos Jan&amp;auml;cek, die in einer Kooperation des Staatstheaters&amp;nbsp;am G&amp;auml;rtnerplatz mit der Bayerischen Theaterakademie August Ever-ding und der Musikhochschule M&amp;uuml;nchen entstanden ist.&lt;/div&gt;
DTSTART:20120618T181500
DTEND:20120618T210000
LOCATION:Haupteingang des Prinzregententheaters â€¢ Prinzregentenplatz 12
ORGANIZER:MVHS München Mitte   
END:VEVENT
END:VCALENDAR