BEGIN:VCALENDAR
VERSION:2.0
PRODID:-//Stadtgeschichte München//DE
CALSCALE:GREGORIAN
BEGIN:VEVENT
UID:20750@stadtgeschichte-muenchen.de
SUMMARY:Bayerische Geschichte -- ein Streifzug vom Mittelalter bis in die jüngste Vergangenheit
DESCRIPTION:&lt;p&gt;&quot;Heute ist die gute alte Zeit von morgen.&quot; Frei nach dem Motto von Karl Valentin erkunden wir Bayerns gute alte Zeit von gestern. In anschaulicher und kompakter Form führt der Kurs von der Blüte Bayerns im Mittelalter über die Zeit der Reformation, des Barock und der Aufklärung bis zur Gründung des modernen Staates und der wechselvollen Geschichte des Freistaates im 20. Jahrhundert. Berücksichtigt werden wesentliche Aspekte von Herrschaftsgeschichte, Politik, Kultur, Wirtschafts- und Sozialgeschichte.&lt;/p&gt; 
DTSTART:20220428T180000
DTEND:20220428T193000
LOCATION:Sendling Volkshochschule, Albert-Roßhaupter-Str. 8
ORGANIZER:MVHS
END:VEVENT
END:VCALENDAR