BEGIN:VCALENDAR
VERSION:2.0
PRODID:-//Stadtgeschichte München//DE
CALSCALE:GREGORIAN
BEGIN:VEVENT
UID:20759@stadtgeschichte-muenchen.de
SUMMARY:Sprachrohr in die Welt - die Olympia-Pressestadt
DESCRIPTION:&lt;p&gt;Im Winter 1968/69 fiel die Entscheidung, die Presseberichterstattung während der Olympischen Spiele 1972 in einer zentralen Wohnanlage im Nordosten des Münchner Stadtteils Moosach unterzubringen. Es wohnten hier während der Spiele die Journalist*innen aus aller Welt. Der Vortrag erzählt die Geschichte der Olympia-Pressestadt von ihrer Entstehung bis hin zur Wohnanlage mit 770 Wohnungen in der heutigen Zeit.&lt;/p&gt; &lt;p&gt;In Kooperation mit dem Geschichtsverein Moosach e.V.&lt;/p&gt; &lt;p&gt;Im Rahmen der Vortragsreihe &quot;Montags in Moosach&quot; und der 24. Moosacher StadtteilKulturTage 2022&lt;/p&gt; 
DTSTART:20220627T183000
DTEND:20220627T200000
LOCATION:MVHS in Moosach, Baubergerstr. 6a
ORGANIZER:MVHS
END:VEVENT
END:VCALENDAR