BEGIN:VCALENDAR
VERSION:2.0
PRODID:-//Stadtgeschichte München//DE
CALSCALE:GREGORIAN
BEGIN:VEVENT
UID:20762@stadtgeschichte-muenchen.de
SUMMARY:München 1972
DESCRIPTION:&lt;p&gt;Der Erinnerungsort Olympia-Attentat München 1972 ist den zwölf Opfern des Terroranschlags gewidmet: den elf israelischen Sportlern und dem deutschen Polizisten, die von den Attentätern getötet wurden. Ihre Biografien stehen am Erinnerungsort im Mittelpunkt, eine filmische Installation bringt den Besucher*innen außerdem die exakten zeitlichen Abläufe der Geiselnahme näher und ordnet die historisch überlieferten Film- und Audiodokumente der Ereignisse in ihrer politischen Dimension aus heutiger Sicht ein.&lt;/p&gt; &lt;p&gt;Der Rundgang im Olympiapark findet zum Jahrestag des Olympia-Attentats in Kooperation mit dem Jüdischen Museum München statt.&lt;/p&gt; 
DTSTART:20220910T160000
DTEND:20220910T173000
LOCATION:U3 Olympiazentrum - Ausgang BMW-Welt
ORGANIZER:MVHS
END:VEVENT
END:VCALENDAR