BEGIN:VCALENDAR
VERSION:2.0
PRODID:-//Stadtgeschichte München//DE
CALSCALE:GREGORIAN
BEGIN:VEVENT
UID:20768@stadtgeschichte-muenchen.de
SUMMARY:Olympia 1972 in München: Katalysator der Stadtentwicklung
DESCRIPTION:&lt;p&gt;Eine Fußgängerzone im Herzen der Stadt, ein neues öffentliches Verkehrssystem, das mittels U- und S-Bahnen Stadtteile und Vorstädte verbindet, der Ausbau des Altstadtrings: Der Zuschlag im Jahr 1966 für die Olympischen Spiele 1972 in München sollte auch für Münchens Innenstadt tiefgreifende städtebauliche Veränderungen nach sich ziehen. Die Modernisierungsprojekte für die Innenstadt wurden unter dem damaligen Oberbürgermeister Hans-Jochen Vogel umgesetzt, manche Pläne jedoch riefen Proteste in der Bürgerschaft hervor und wurden aufgegeben. Diese Stadtführung macht die bekannten und weniger bekannten Auswirkungen der Olympischen Spiele auf das Münchner Stadtbild erlebbar.&lt;/p&gt; 
DTSTART:20220721T170000
DTEND:20220721T183000
LOCATION: Mariensäule, Marienplatz
ORGANIZER:MVHS
END:VEVENT
END:VCALENDAR