BEGIN:VCALENDAR
VERSION:2.0
PRODID:-//Stadtgeschichte München//DE
CALSCALE:GREGORIAN
BEGIN:VEVENT
UID:20777@stadtgeschichte-muenchen.de
SUMMARY:Haidhauser Straßennamen und ihre Geschichte(n)
DESCRIPTION:&lt;p&gt;Die Namen der großen, immer noch aktiven &quot;Lebensadern&quot; des Stadtteils sind bekannt, und auch deren Bedeutung und Herkunft lässt sich leicht erschließen.&lt;/p&gt; &lt;p&gt;Bei Bezeichnungen wie Comeniusstraße oder Langerstraße wird es schon ein wenig schwieriger. Warum befindet sich die &quot;Metzgerstraße&quot; ausgerechnet in Haidhausen, und wer war denn dieser Herr Schiltberger, nach dem die kleine Straße benannt ist, die den Johannisplatz mit der Steinstraße verbindet?&lt;/p&gt; &lt;p&gt;Auf unserem Rundgang beschäftigen wir nicht nur mit der Namensgebung der Straßen im &quot;Franzosenviertel&quot;, sondern gehen auch der Frage nach, warum der Max-Weber-Platz nicht nur nach einer Person benannt ist und was es mit dem Bordeauxplatz auf sich hat.&lt;/p&gt; 
DTSTART:20220828T110000
DTEND:20220828T123000
LOCATION:am Maibaum, Wiener Platz
ORGANIZER:MVHS
END:VEVENT
END:VCALENDAR