BEGIN:VCALENDAR
VERSION:2.0
PRODID:-//Stadtgeschichte München//DE
CALSCALE:GREGORIAN
BEGIN:VEVENT
UID:2078@stadtgeschichte-muenchen.de
SUMMARY:Der Ostfriedhof
DESCRIPTION:&lt;p&gt;Der älteste Teil des heutigen Ostfriedhofs wurde 1817 von der damaligen Gemeinde Au errichtet („Auer Leichenäcker&quot;) und nach der&amp;nbsp;Eingemeindung von Au und Giesing von der Stadt München übernommen und erweitert. Monumentales Wahrzeichen ist das&amp;nbsp;Friedhofsgebäude mit Aussegnungshalle, das zwischen 1894 und 1900 entstand. Das neue Krematorium wurde im Herbst 1929 eröffnet.&amp;nbsp;Seine Geschichte ist eng mit der Geschichte des Nationalsozialismus verbunden. Wurden hier doch nicht nur die Leichen tausender&amp;nbsp;Gegner und Opfer des NS-Regimes verbrannt, sondern 1946 auch die der in den Nürnberger Prozessen zum Tode verurteilten&amp;nbsp;Hauptkriegsverbrecher. Bei dieser Führung werden neben geschichtlichen auch künstlerische Aspekte beleuchtet und Gräber berühmter&amp;nbsp;„Bewohner&quot; (Toni Berger, Rex Gildo, Thomas Wimmer, Erich Hallhuber, Rudolph Moshammer,...) besucht.&lt;/p&gt; 
DTSTART:20120423T150000
DTEND:20120423T170000
LOCATION:auf dem Platz bei der Aussegnungshalle
ORGANIZER:MVHS München Ost
END:VEVENT
END:VCALENDAR