BEGIN:VCALENDAR
VERSION:2.0
PRODID:-//Stadtgeschichte München//DE
CALSCALE:GREGORIAN
BEGIN:VEVENT
UID:20783@stadtgeschichte-muenchen.de
SUMMARY:Jüdisches Leben in München vom Mittelalter bis heute
DESCRIPTION:&lt;p&gt;Jüdische Tradition reicht in Mitteleuropa zurück bis in die Zeit der römischen Antike, also lange bevor Deutschland entstand. Dieses eintägige Kompaktseminar richtet seinen Fokus auf jüdisches Leben in München und die immer wieder gefährdeten Traditionen jüdischer Existenz in der Landeshauptstadt. Ein Vortrag am Vormittag vermittelt einen Überblick über diese Geschichte voller Widersprüche, des Leids, der Hoffnung und der Gewalt. Am Nachmittag schließt sich ein Altstadt-Rundgang zu wichtigen Orten jüdischen Lebens an.&lt;/p&gt; 
DTSTART:20220710T103000
DTEND:20220710T000000
LOCATION:Bildungszentrum, Einsteinstr. 28
ORGANIZER:MVHS
END:VEVENT
END:VCALENDAR