BEGIN:VCALENDAR
VERSION:2.0
PRODID:-//Stadtgeschichte München//DE
CALSCALE:GREGORIAN
BEGIN:VEVENT
UID:20784@stadtgeschichte-muenchen.de
SUMMARY:Jüdisches Leben in der Isarvorstadt
DESCRIPTION:&lt;p&gt;Ein &quot;Schtetl&quot; war die Isarvorstadt vor dem Zweiten Weltkrieg nicht, zwischen Isartorplatz, Blumenstraße und dem Alten Südlichen Friedhof lebten aber wohl die meisten jüdischen Bürgerinnen und Bürger Münchens. Hier ließen sich seit Anfang des 20. Jahrhunderts vor allem jüdische Zuwanderer aus Osteuropa nieder, die zahlreiche Geschäfte, Handwerksbetriebe, Gebetsstuben und Vereine unterhielten. 1931 wurde in der Reichenbachstraße eine Synagoge eröffnet. Die Führung folgt den jüdischen Spuren in diesem Viertel. Sie endet voraussichtlich am St.-Jakobs-Platz.&lt;/p&gt; 
DTSTART:20220731T100000
DTEND:20220731T120000
LOCATION:Staatstheater am Gärtnerplatz, Gärtnerplatz 3
ORGANIZER:MVHS
END:VEVENT
END:VCALENDAR