BEGIN:VCALENDAR
VERSION:2.0
PRODID:-//Stadtgeschichte München//DE
CALSCALE:GREGORIAN
BEGIN:VEVENT
UID:20785@stadtgeschichte-muenchen.de
SUMMARY:München um 1900
DESCRIPTION:&lt;p&gt;Die Regentschaft des Prinzregenten Luitpold, die von 1886 bis zu dessen Tod im Dezember 1912 reichte, bedeutete für Bayern eine Epoche des wirtschaftlichen Aufschwungs und des Friedens. Die Landeshauptstadt München entwickelte sich in jenen Jahren zu einer führenden Kunst- und Kulturstadt. Gleichzeitig war die &quot;Prinzregentenzeit&quot; eine Phase tiefgreifender gesellschaftlicher, politischer und wirtschaftlicher Umbrüche, begleitet von Veränderungen in Kunst, Musik, Kultur, Technik, Architektur und Wissenschaft.&lt;/p&gt; 
DTSTART:20220805T160000
DTEND:20220805T180000
LOCATION:Stachus, Karlsplatz
ORGANIZER:MVHS
END:VEVENT
END:VCALENDAR