BEGIN:VCALENDAR
VERSION:2.0
PRODID:-//Stadtgeschichte München//DE
CALSCALE:GREGORIAN
BEGIN:VEVENT
UID:20790@stadtgeschichte-muenchen.de
SUMMARY:Liebe und ihre Verwicklungen
DESCRIPTION:&lt;p&gt;Die Liebe hält auch die Münchnerinnen und Münchner seit ewigen Zeiten auf Trab. Bei welchem Fotoshooting etwa die Liebe auf den ersten &quot;Klick&quot; erwachte, welches &quot;g\'schlamperte&quot; Verhältnis über Jahrzehnte Bestand hatte und welche sämtliche Konventionen sprengende Verbindung fast eine Revolution auslöste, zumindest den Thron kostete, all das und noch viel mehr erfahren Sie bei diesem kurzweiligen Stadtspaziergang. Deutlich wird: Ob arm und mittellos oder reich und mächtig, vor der Liebe und ihren teils komischen und seltsamen Verwicklungen scheint niemand gefeit.&lt;/p&gt; 
DTSTART:20220717T110000
DTEND:20220717T130000
LOCATION:Heilig-Geist-Kirche (Eingang auf Seite zum Viktualienmarkt)
ORGANIZER:MVHS
END:VEVENT
END:VCALENDAR