BEGIN:VCALENDAR
VERSION:2.0
PRODID:-//Stadtgeschichte München//DE
CALSCALE:GREGORIAN
BEGIN:VEVENT
UID:208@stadtgeschichte-muenchen.de
SUMMARY:Vom Mehl zum Brot
DESCRIPTION:&lt;p&gt;Sie erleben die Verarbeitung von Mehl und Schrot aus &amp;ouml;kologischem Anbau, von der Sauerteigbereitung &amp;uuml;ber das Kneten und Backen bis zur Vermarktung. Mit Brotverkostung.&lt;/p&gt;
DTSTART:20110317T163000
DTEND:20110317T190000
LOCATION:Hofpfisterei â€¢ Kreittmayrstr. 5 
ORGANIZER:MVHS München Mitte   
END:VEVENT
END:VCALENDAR