BEGIN:VCALENDAR
VERSION:2.0
PRODID:-//Stadtgeschichte München//DE
CALSCALE:GREGORIAN
BEGIN:VEVENT
UID:2080@stadtgeschichte-muenchen.de
SUMMARY:Der Weißenseepark
DESCRIPTION:&lt;div&gt;Die zentrale Giesinger Gr&amp;uuml;nanlage beiderseits der Wei&amp;szlig;enseestra&amp;szlig;e wurde im Rahmen des Bund-L&amp;auml;nder-St&amp;auml;dtebauf&amp;ouml;rderprogramms&amp;nbsp;&amp;bdquo;Stadt- und Ortsteile mit besonderem Entwicklungsbedarf - die Soziale Stadt&amp;quot; aufgewertet und umgestaltet. Die Konzeptentwicklung&amp;nbsp;erfolgte im Rahmen eines umfangreichen Beteiligungsprozesses. Viele unterschiedliche und teilweise divergierende Interessen und&amp;nbsp;Meinungen mussten in einem Gesamtkonzept vereint werden. Nach den Umbauma&amp;szlig;nahmen im Jahr 2010 stehen nun viele neue oder&amp;nbsp;erneuerte Aufenthalts- und Aktionsr&amp;auml;ume zur Verf&amp;uuml;gung.&lt;/div&gt;
DTSTART:20120628T170000
DTEND:20120628T183000
LOCATION: Zugang zur Grünanlage Untersbergstr. gegenüber Firstalmstr.
ORGANIZER:MVHS München Mitte   
END:VEVENT
END:VCALENDAR