BEGIN:VCALENDAR
VERSION:2.0
PRODID:-//Stadtgeschichte München//DE
CALSCALE:GREGORIAN
BEGIN:VEVENT
UID:20808@stadtgeschichte-muenchen.de
SUMMARY:Die Isar - entlang der Lebensader Münchens von der Praterinsel nach Thalkirchen
DESCRIPTION:&lt;p&gt;Am Rande der Flora und Fauna des Isarufers inmitten der Stadt erfahren Sie bei dieser Führung mehr über die Bedeutung der Isar für München und seine Bewohnerinnen und Bewohner - damals wie heute. Wie prägte die Isar die Geschichte der Stadt? Und wie prägte die Münchner Bevölkerung ihren Fluss? Folgen Sie der Isar von der Praterinsel weiter nach Thalkirchen und entdecken Sie die Geschichte eines Lebens am Rande des Wildflusses und die Geschichte einer Annäherung von Natur und Zivilisation.&lt;/p&gt; 
DTSTART:20220811T150000
DTEND:20220811T170000
LOCATION:Isartor, Innenhof, Isartorplatz
ORGANIZER:MVHS
END:VEVENT
END:VCALENDAR