BEGIN:VCALENDAR
VERSION:2.0
PRODID:-//Stadtgeschichte München//DE
CALSCALE:GREGORIAN
BEGIN:VEVENT
UID:20819@stadtgeschichte-muenchen.de
SUMMARY:Bauern, Bürger, Bohemiens
DESCRIPTION:&lt;p&gt;Münchens &quot;schönste Tochter&quot;, wie das einstige Dorf bei seiner Eingemeindung bezeichnet wurde, war über die Jahrhunderte Lebensmittelpunkt von Bäuerinnen und Bauern, Fischern, dem Adel und dem reichen Bürgertum, der Boheme und der Arbeiterschaft. Ihre Spuren finden sich in der alten Dorfkirche, in vorstädtischen Kleinhäusern, verwunschenen Schlössern und Villen sowie in Gründerzeit- und Genossenschaftsbauten. Begeben Sie sich auf Spurensuche.&lt;/p&gt; 
DTSTART:20220625T140000
DTEND:20220625T160000
LOCATION:Münchner Freiheit/Ecke Feilitzschstr., Feilitzschstr. 1
ORGANIZER:MVHS
END:VEVENT
END:VCALENDAR