BEGIN:VCALENDAR
VERSION:2.0
PRODID:-//Stadtgeschichte München//DE
CALSCALE:GREGORIAN
BEGIN:VEVENT
UID:20822@stadtgeschichte-muenchen.de
SUMMARY:Demokratie braucht Erinnerung
DESCRIPTION:&lt;p&gt;Die Radtour führt über das ehemalige SS-Schulungslager und Munitionsdepot (Hochbrück) und eines der KZ-Außenlager (Gut Hochmutting) zum ersten großen Zentrallager des NS-Regimes, zum KZ Dachau. Dort haben wir Gelegenheit, die Ausstellung sowie das einstige Lagergefängnis, den sogenannten Bunker, zu besuchen. Anschließend wird die ehemalige SS-Schießstätte in Hebertshausen besichtigt.&lt;/p&gt; 
DTSTART:20220807T100000
DTEND:20220807T170000
LOCATION:U-Bahnhof Garching-Hochbrück (U6)
ORGANIZER:MVHS
END:VEVENT
END:VCALENDAR