BEGIN:VCALENDAR
VERSION:2.0
PRODID:-//Stadtgeschichte München//DE
CALSCALE:GREGORIAN
BEGIN:VEVENT
UID:20827@stadtgeschichte-muenchen.de
SUMMARY:Mit.Wirkung ! Debatten im Viertel
DESCRIPTION:&lt;p&gt;Wie soll und muss München in 20 Jahren aussehen? Wo sollen Grün- und Freiflächen erhalten und neu geschaffen werden? Mit welchen Verkehrsmitteln wollen wir uns auf welchen Strecken fortbewegen? Und wo soll künftig gebaut werden? Wie wollen wir unsere Quartiere angesichts des Klimawandels und vor dem Ziel der Klimaneutralität gestalten?&lt;/p&gt; &lt;p&gt;Diskutieren Sie mit Expert*innen und Stadtplaner*innen, kommen Sie ins Gespräch und bringen Sie Ihre Ideen für einen lebens- und liebenswerten Münchner Norden ein.&lt;/p&gt; 
DTSTART:20220331T180000
DTEND:20220331T203000
LOCATION:Volkshochschule, Blodigstr. 4
ORGANIZER:MVHS
END:VEVENT
END:VCALENDAR