BEGIN:VCALENDAR
VERSION:2.0
PRODID:-//Stadtgeschichte München//DE
CALSCALE:GREGORIAN
BEGIN:VEVENT
UID:2083@stadtgeschichte-muenchen.de
SUMMARY:piano possibile - „Brutstätte klanglicher Kunst&quot;
DESCRIPTION:&lt;div&gt;Piano possibile e.V. ist ein Verein, der die Arbeit des gleichnamigen Ensembles in seinem Einsatz f&amp;uuml;r neue Musik unterst&amp;uuml;tzt. Gegenw&amp;auml;rtig&amp;nbsp;haben die Musikerinnen und Musiker Prober&amp;auml;ume im sogenannten P&amp;ouml;llat-Pavillon in Obergiesing gefunden. Das Ensemble besteht seit&amp;nbsp;1993 und ist gewisserma&amp;szlig;en rastlos auf der Suche nach immer neuen Herausforderungen. Die Entstehung und Umsetzung&amp;nbsp;zeitgen&amp;ouml;ssischer Musik hei&amp;szlig;t, dass neue Werke, Kl&amp;auml;nge und Auff&amp;uuml;hrungsformen initiiert werden, neue Komponisten und andere&amp;nbsp;Musikschaffende gesucht werden und das Ensemble-Spiel st&amp;auml;ndig verbessert wird. Durch Einladungen zu Werkstattgespr&amp;auml;chen und&amp;nbsp;Werkauff&amp;uuml;hrungen soll auch der Kontakt mit der Nachbarschaft gepflegt werden. Der Vortrag mit Musikvideos stellt das Konzept und die&amp;nbsp;Arbeitsweise des, im Rahmen der Sozialen Stadt gef&amp;ouml;rderten, Projekts vor.&lt;/div&gt;
DTSTART:20120418T190000
DTEND:20120418T201500
LOCATION:piano possibile im Pöllat-Pavillon â€¢ Pöllatstr. 11 
ORGANIZER:MVHS München Mitte   
END:VEVENT
END:VCALENDAR