BEGIN:VCALENDAR
VERSION:2.0
PRODID:-//Stadtgeschichte München//DE
CALSCALE:GREGORIAN
BEGIN:VEVENT
UID:20830@stadtgeschichte-muenchen.de
SUMMARY:Besuch im Haus auf Stelzen
DESCRIPTION:&lt;p&gt;Der spektakuläre Stelzenbau in Moosach, der sich über dem Parkplatz erhebt, war das Pilotprojekt im Programm &quot;Wohnen für alle&quot;, das günstigen und zugleich attraktiven Wohnraum für Menschen mit geringem Einkommen und für anerkannte Flüchtlinge schaffen sollte. Florian Fritz, Sachgebietsleitung im Amt für Wohnen und Migration, berichtet gemeinsam mit Mitarbeiterinnen vor Ort, wie sich das Programm und das Zusammenleben am Dantebad und in ganz München inzwischen entwickelt hat und mit welchen neuen Projektideen im Bereich der &quot;Unterstützung im Sozialraum&quot; hier perspektivisch gearbeitet wird.&lt;/p&gt; &lt;p&gt;In Kooperation mit dem Amt für Wohnen und Migration.&lt;/p&gt; 
DTSTART:20220915T170000
DTEND:20220915T180000
LOCATION:vor dem Dantebad, Postillonstr. 17
ORGANIZER:MVHS
END:VEVENT
END:VCALENDAR