BEGIN:VCALENDAR
VERSION:2.0
PRODID:-//Stadtgeschichte München//DE
CALSCALE:GREGORIAN
BEGIN:VEVENT
UID:20836@stadtgeschichte-muenchen.de
SUMMARY:Haidbräu
DESCRIPTION:&lt;p&gt;In der inklusiven AWO-Brauerei Haidbräu für Beschäftigte mit seelischen Einschränkungen wird nach traditioneller Handwerkskunst gebraut. Es werden ausschließlich hochwertige Zutaten von ausgewählten regionalen Produzenten verwendet, das Bier ist unfiltriert und es werden keine Zusatzstoffe zur Haltbarmachung verwendet. Die Führung gibt einen Einblick in diese besondere Brauerei, anschließend sind die Teilnehmenden zur Verköstigung eingeladen (in der Gebühr inbegriffen).&lt;/p&gt; &lt;p&gt;&amp;nbsp;&lt;/p&gt; 
DTSTART:20220504T180000
DTEND:20220504T200000
LOCATION:HaidBräu Brauerei, Admiralbogen 41, Admiralbogen 41 Gebühr	
ORGANIZER:MVHS
END:VEVENT
END:VCALENDAR