BEGIN:VCALENDAR
VERSION:2.0
PRODID:-//Stadtgeschichte München//DE
CALSCALE:GREGORIAN
BEGIN:VEVENT
UID:2084@stadtgeschichte-muenchen.de
SUMMARY:Quinua und mehr...
DESCRIPTION:&lt;div&gt;Entdecken Sie die Vielfalt exotischer Produkte. Lassen Sie sich verf&amp;uuml;hren, Spezialit&amp;auml;ten und handwerkliche Produkte ferner Kontinente zu&amp;nbsp;erkunden. Bei diesem Besuch erwarten Sie Produkte aus fairem Handel, die in traditioneller Handwerkskunst hergestellt sind und bei&amp;nbsp;denen die Produzenten einen Lohn erhalten, von dem sie angemessen ihr Leben bestreiten k&amp;ouml;nnen. Ein Schwerpunkt des Abends ist das&amp;nbsp;Produkt Quinua. Sie erfahren woher sie kommt, wie sie produziert wird und was man alles daraus machen kann - auch mit Kostproben.&lt;/div&gt;
DTSTART:20120419T183000
DTEND:20120419T200000
LOCATION:Fairkauf HandelsKontor â€¢ Brecherspitzstr. 8 
ORGANIZER:MVHS München Mitte   
END:VEVENT
END:VCALENDAR