BEGIN:VCALENDAR
VERSION:2.0
PRODID:-//Stadtgeschichte München//DE
CALSCALE:GREGORIAN
BEGIN:VEVENT
UID:20842@stadtgeschichte-muenchen.de
SUMMARY:Gänse am Schwabinger See
DESCRIPTION:&lt;p&gt;Wer hätte gedacht, dass ein kleiner See mitten in einem Wohngebiet in Schwabing der erfolgreichste Brutort für Graugänse in München ist. Der Schwabinger See bietet auf zwei Inseln Brutplätze für etwa ein halbes Dutzend Graugans-Paare und ein Schwanenpaar. Aus nächster Nähe lässt sich das Sozialleben der Gänsefamilien und Brutpaare erleben und verstehen, weshalb ausgerechnet dieser See ein erfolgreicher Brutplatz ist. Außerdem wird der See gerade im Frühjahr gern von zahlreichen weiteren Wasservögeln aufgesucht.&lt;/p&gt; 
DTSTART:20220410T100000
DTEND:20220410T113000
LOCATION:Eingang Ungererbad, Traubestr. 3
ORGANIZER:MVHS
END:VEVENT
END:VCALENDAR