BEGIN:VCALENDAR
VERSION:2.0
PRODID:-//Stadtgeschichte München//DE
CALSCALE:GREGORIAN
BEGIN:VEVENT
UID:20854@stadtgeschichte-muenchen.de
SUMMARY:Auf dem Rad entlang historischer Wasserstraßen
DESCRIPTION:&lt;p&gt;Das oberirdische Kanalsystem im Münchner Norden wurde von Kurfürst Max-Emanuel um 1700 angelegt. Bei einer ausgedehnten Rundfahrt entlang den Kanälen und der sie speisenden Würm wird die Bedeutung dieser Wasserstraßen in Geschichte und Gegenwart gezeigt.&lt;/p&gt; &lt;p&gt;&lt;br /&gt; &lt;br /&gt; Die Tour, die über ca. 42 km geht, ist sowohl für Pedelecs als auch für trittfeste Radler*innen ohne Elektro-Antrieb geeignet.&lt;/p&gt; 
DTSTART:20220821T110000
DTEND:20220821T170000
LOCATION:Bad Georgenschwaige, Belgradstr. 195
ORGANIZER:MVHS
END:VEVENT
END:VCALENDAR