BEGIN:VCALENDAR
VERSION:2.0
PRODID:-//Stadtgeschichte München//DE
CALSCALE:GREGORIAN
BEGIN:VEVENT
UID:20857@stadtgeschichte-muenchen.de
SUMMARY:Haus der Kulturen und Religionen - Besuch in der Nazarethkirche in Bogenhausen
DESCRIPTION:&lt;p&gt;Die Idee für ein Haus, in dem Menschen verschiedener Kulturen und Religionen sich begegnen und voneinander lernen können, geht auf Martin Rötting zurück, Professor für Religious Studies in Salzburg. In der evangelischen Immanuel-Nazarethgemeinde in München-Bogenhausen sowie bei interreligiösen Gruppen und Glaubensgemeinschaften in München fiel die Idee auf fruchtbaren Boden. Im Juni 2021 startete in der Nazarethkirche eine zunächst einjährige Pilotphase. Wir laden zu einem ersten Kennenlernen ein. Vor der Veranstaltung besteht um 18.00 Uhr Gelegenheit zur Teilnahme an der &quot;Montagsmeditation&quot;.&lt;/p&gt; 
DTSTART:20220328T183000
DTEND:20220328T200000
LOCATION:Nazarethkirche, Barbarossastr. 3
ORGANIZER:MVHS
END:VEVENT
END:VCALENDAR