BEGIN:VCALENDAR
VERSION:2.0
PRODID:-//Stadtgeschichte München//DE
CALSCALE:GREGORIAN
BEGIN:VEVENT
UID:2086@stadtgeschichte-muenchen.de
SUMMARY:Spielräume in der Messestadt Riem
DESCRIPTION:&lt;div&gt;Was hat ein Kunstprojekt mit Stadtteilentwicklung zu tun? Kann es auch Spa&amp;szlig; machen, gegen die leidige Verm&amp;uuml;llung im Park anzugehen?&amp;nbsp;Der K&amp;uuml;nstler Michael Lapper besch&amp;auml;ftigt sich seit Jahren kontinuierlich mit den kreativen M&amp;ouml;glichkeiten des jungen M&amp;uuml;nchner Stadtteils,&amp;nbsp;dringt dabei oft in den Alltag vor und fragt sich selber manchmal: &amp;bdquo;Ist das noch Kunst?&amp;quot; Diese Veranstaltung beginnt mit einem Rundgang&amp;nbsp;zu laufenden bzw. bestehenden Projekten wie der Panoramabank auf dem Rodelh&amp;uuml;gel und den aus Plastikt&amp;uuml;ten gefertigten &amp;bdquo;spanischen&amp;nbsp;Vorh&amp;auml;ngen&amp;quot;. Anschlie&amp;szlig;end stellt Michael Lapper in einem Film sein Messestadt-Projekt vor und berichtet &amp;uuml;ber vergangene Aktionen wie&amp;nbsp;&amp;bdquo;mirbau&#039;n&amp;quot;, die Plakatreihe A1 mit angeschlossenem 24 Stunden Rennen oder &amp;bdquo;Die M&amp;uuml;llgeister&amp;quot;. Vortrag und Film finden bei der&amp;nbsp;Genossenschaft Wagnis statt. Vorab besteht die M&amp;ouml;glichkeit den traditionellen Flohmarkt in den H&amp;ouml;fen der Messestadt Riem zu besuchen&amp;nbsp;(ab 10.00 Uhr).&lt;/div&gt;
DTSTART:20120501T140000
DTEND:20120501T160000
LOCATION:U-Bahnhof Messestadt Ost, Ausgang Willy-Brandt-Allee Ost, oben bei der Bushaltestelle
ORGANIZER:MVHS München Mitte   
END:VEVENT
END:VCALENDAR