BEGIN:VCALENDAR
VERSION:2.0
PRODID:-//Stadtgeschichte München//DE
CALSCALE:GREGORIAN
BEGIN:VEVENT
UID:20869@stadtgeschichte-muenchen.de
SUMMARY:Trudering im Wandel
DESCRIPTION:&lt;p&gt;Nach dem Vorbild der weltweit aktiven &quot;Transition-Town-Bewegung&quot; wurde im August 2015 - als Folge der Truderinger Zukunftsgepräche - &quot;Trudering im Wandel&quot; gegründet. Organisiert in einer Kerngruppe werden von Menschen mit unterschiedlichen Talenten und Ideen Veranstaltungen geplant, die Ziele wie Handeln statt Zusehen, Nachhaltigkeit im Alltag oder Sparen von Ressourcen im Focus haben. Nach der erzwungenen Coronapause freuen sich die Akteur*innen, dass es weiter geht, hier mit einem Vortrag über die Transition-Town-Bewegung und Vorstellung der Projekte &quot;Computer für neue Chancen&quot; und &quot;Unverpackt und Plastikfrei&quot;.&lt;/p&gt; 
DTSTART:20220509T193000
DTEND:20220509T210000
LOCATION:Kulturzentrum Trudering, Wasserburger Landstr. 32
ORGANIZER:MVHS
END:VEVENT
END:VCALENDAR