BEGIN:VCALENDAR
VERSION:2.0
PRODID:-//Stadtgeschichte München//DE
CALSCALE:GREGORIAN
BEGIN:VEVENT
UID:20874@stadtgeschichte-muenchen.de
SUMMARY:Ensembleschutz in Ramersdorf
DESCRIPTION:&lt;p&gt;Ausgangspunkt ist der Melusinenbrunnen mit der Skulptur des Blockwalzers auf dem Karl-Preis-Platz, benannt nach dem Visionär und Pionier Karl Preis, der in den 20er-Jahren mit der GEWOFAG den sozialen Wohnungsbau in München begründete. Die dem Staffelbaukonzept Theodor Fischers folgenden Wohnungsbauten rund um den Loehleplatz stehen inzwischen unter Ensembleschutz. Der Baumeister Theodor Fischer hatte großen Einfluß auf die Münchner Stadtplanung. Zum Schluss führt ein Abstecher zur denkmalgeschützten und geschichtsträchtigen Führichschule.&lt;/p&gt; 
DTSTART:20220602T160000
DTEND:20220602T173000
LOCATION:Karl-Preis-Platz, am Melusinenbrunnen
ORGANIZER:MVHS
END:VEVENT
END:VCALENDAR