BEGIN:VCALENDAR
VERSION:2.0
PRODID:-//Stadtgeschichte München//DE
CALSCALE:GREGORIAN
BEGIN:VEVENT
UID:20886@stadtgeschichte-muenchen.de
SUMMARY:Das Bienenjahr: Rückblick und Überwinterung
DESCRIPTION:&lt;p&gt;Was passiert im Bienenstock im Frühling und Sommer. Wie sehen die verschiedenen Entwicklungsstadien der Bienen aus? Wie bereiten Imker*innen sich und die Bienen auf den Winter vor? Was ist der Unterschied zwischen Sommer- und Winterbienen und welche Futtervorräte an Honig und Pollen legen sie an? Eine Besonderheit ist die Spätsommerpflege, die sog. Varroabehandlung gegen Milben. Begleiten Sie eine Giesinger Stadtimkerin zu ihrem Arbeitsplatz. Honigwaben und weiteres Anschauungsmaterial sind mit im Gepäck. Die Öffnung der Bienenstöcke kann leider nicht garantiert werden.&lt;/p&gt; 
DTSTART:20220916T140000
DTEND:20220916T160000
LOCATION:Grünspitz, gegenüber dem Stadtteilladen Giesing, Tegernseer Landstr. 113
ORGANIZER:MVHS
END:VEVENT
END:VCALENDAR