BEGIN:VCALENDAR
VERSION:2.0
PRODID:-//Stadtgeschichte München//DE
CALSCALE:GREGORIAN
BEGIN:VEVENT
UID:20892@stadtgeschichte-muenchen.de
SUMMARY:Von der Marienklause zur Menterschwaige
DESCRIPTION:&lt;p&gt;Die im Jahr 1865 von Martin Achleiter errichtete Marienklause südlich des Tierparks Hellabrunn erfreut als Zeugnis naiver Volksfrömmigkeit seit über 150 Jahren die Flanierenden im Isartal. Der Aufstieg zum östlich gelegenen Isarhochufer ist gut zu bewältigen. Auf dem Weg zum Gutshof Menterschwaige mit dem Lola Montez Häuschen wird die Entwicklung der &quot;Gartenstadt Harlaching&quot; zu einer malerischen Villenkolonie erläutert. Auch deren Kehrseite, die fortschreitende Zerstörung durch die starke Nachverdichtung, wird Thema sein.&lt;/p&gt; 
DTSTART:20220807T140000
DTEND:20220807T160000
LOCATION:vor der Marienklause, Schlichtweg 15
ORGANIZER:MVHS
END:VEVENT
END:VCALENDAR