BEGIN:VCALENDAR
VERSION:2.0
PRODID:-//Stadtgeschichte München//DE
CALSCALE:GREGORIAN
BEGIN:VEVENT
UID:20897@stadtgeschichte-muenchen.de
SUMMARY:GartenArchitekTour: vom alten zum neuen Friedhof Riem
DESCRIPTION:&lt;p&gt;Mit dem Umbau des Flughafens Riem zur &quot;Messestadt&quot; ist als wesentlicher Abschluss eine sehenswerte Friedhofsgestaltung geschaffen worden. Der alte Teil des Friedhofs Riem wurde hier um eine moderne neue Friedhofsanlage erweitert. Wir erleben zum einen traditionelle Gestaltungsformen der Aussegnungshalle, Wegeführung und geschnittenen Hecken, zum anderen bringen uns die modernen architektonischen Formen der erhöht liegenden Gräberfelder (&quot;Schollen&quot;), die begrenzenden Trockenmauern, Stahltore, umgebende Baumreihen und die strenge Kühle der Friedhofsgebäude zum Staunen.&lt;/p&gt; 
DTSTART:20220512T160000
DTEND:20220512T180000
LOCATION:
ORGANIZER:MVHS
END:VEVENT
END:VCALENDAR