BEGIN:VCALENDAR
VERSION:2.0
PRODID:-//Stadtgeschichte München//DE
CALSCALE:GREGORIAN
BEGIN:VEVENT
UID:209@stadtgeschichte-muenchen.de
SUMMARY:Zu Gast beim Bayerischen Rundfunk
DESCRIPTION:&lt;p&gt;Der Bayerische Rundfunk l&amp;auml;dt zu einer F&amp;uuml;hrung ins Funkhaus ein. Zu Beginn erhalten Sie Informationen zur Geschichte, Organisation und zu den Programmangeboten des BR und der ARD. Sie besichtigen das News Center, die Musik- und H&amp;ouml;rspielstudios und verschiedene Sendestudios. 365 Tage im Jahr sind unz&amp;auml;hlige Korrespondenten, Radiojournalisten, Redakteure, Moderatoren, Techniker und Handwerker im Einsatz. Wenn Sie einigen von ihnen &amp;uuml;ber die Schulter schauen wollen, haben Sie hier dazu Gelegenheit.&lt;br /&gt; &amp;nbsp;&lt;/p&gt;
DTSTART:20110524T170000
DTEND:20110524T183000
LOCATION:BR-Shop â€¢ Arnulfstr. 42/Ecke Hopfenstr
ORGANIZER:MVHS München Mitte   
END:VEVENT
END:VCALENDAR