BEGIN:VCALENDAR
VERSION:2.0
PRODID:-//Stadtgeschichte München//DE
CALSCALE:GREGORIAN
BEGIN:VEVENT
UID:20912@stadtgeschichte-muenchen.de
SUMMARY:Buchvorstellung: 
DESCRIPTION:&lt;p&gt;Schon im Morgengrauen binden die Flößer von Isar und Loisach ihre großen Holzgefährte zusammen: Seit dem Mittelalter sind die Städte am Fluss schneller und preisgünstiger mit dem Floß zu erreichen als per Landweg. Verdrängt von der Eisenbahn, enden seit 1899 alle Floßfahrten an der Zentrallände Thalkirchen. Die Umgebung und das Leben vor Ort passten sich den Bedürfnissen des Flößereigewerbes an. Autorin Helga Lauterbach stellt ihr gleichnamiges Buch in erweiterter Neuauflage vor, in dem sie von der Geschichte der Flößerei und von den Menschen am Fluss erzählt.&lt;/p&gt; &lt;p&gt;In Kooperation mit der Stadtbibliothek Sendling.&lt;/p&gt; 
DTSTART:20220405T183000
DTEND:20220405T200000
LOCATION:Volkshochschule, Albert-Roßhaupter-Str. 8
ORGANIZER:MVHS
END:VEVENT
END:VCALENDAR