BEGIN:VCALENDAR
VERSION:2.0
PRODID:-//Stadtgeschichte München//DE
CALSCALE:GREGORIAN
BEGIN:VEVENT
UID:2093@stadtgeschichte-muenchen.de
SUMMARY:Woher kommt das Grünwalder Wasser?
DESCRIPTION:&lt;div&gt;Kristallklar und frisch sprudelt es aus der Leitung - ganz selbstverst&amp;auml;ndlich und zu jeder Tages- und Nachtzeit. Ob zum Trinken, Kochen,&amp;nbsp;Duschen oder zu anderen Zwecken, Wasser ist ein lebensnotwendiges Gut. Dass das kostbare Nass aber immer zur Verf&amp;uuml;gung steht,&amp;nbsp;erfordert eine ausgekl&amp;uuml;gelte Logistik und eine technisch hochwertige Ausstattung. Woher das Gr&amp;uuml;nwalder Wasser nun kommt und wie es&amp;nbsp;in die Haushalte gelangt, zeigt die F&amp;uuml;hrung. Besichtigt werden die Pumpanlage und der Brunnen am Isarufer und der Hochbeh&amp;auml;lter in&amp;nbsp;Stra&amp;szlig;lach. Ein eigener PKW ist nicht erforderlich, f&amp;uuml;r Fahrgelegenheit ist gesorgt.&lt;/div&gt;
DTSTART:20120427T140000
DTEND:20120427T160000
LOCATION:Bauhof an der Tobrukstr.
ORGANIZER:MVHS München Mitte   
END:VEVENT
END:VCALENDAR