BEGIN:VCALENDAR
VERSION:2.0
PRODID:-//Stadtgeschichte München//DE
CALSCALE:GREGORIAN
BEGIN:VEVENT
UID:20937@stadtgeschichte-muenchen.de
SUMMARY:Vorstellung des Vereins &quot;Freunde alter Menschen e.V.&quot;
DESCRIPTION:&lt;p&gt;Engagement gegen Einsamkeit im Alter - niemand möchte gerne einsam und isoliert leben, das ist aber für viele alte Menschen Realität. Der Verein \'Freunde alter Menschen e.V.\' stiftet Besuchspartnerschaften, bei denen Freiwillige regelmäßig einen alten Menschen zuhause besuchen. So entstehen Freundschaften zwischen den Generationen. Zweisam statt einsam!&lt;/p&gt; &lt;p&gt;Hannah Kietzerow berichtet alles rund um den Verein und die verschiedenen Möglichkeiten des Engagements.&lt;/p&gt; &lt;p&gt;In Kooperation mit \'Freunde alter Menschen e.V.\' und dem Stadtteilkulturzentrum Guardini90&lt;/p&gt; 
DTSTART:20220505T190000
DTEND:20220505T200000
LOCATION:Volkshochschule, Guardinistr. 90
ORGANIZER:MVHS
END:VEVENT
END:VCALENDAR