BEGIN:VCALENDAR
VERSION:2.0
PRODID:-//Stadtgeschichte München//DE
CALSCALE:GREGORIAN
BEGIN:VEVENT
UID:20954@stadtgeschichte-muenchen.de
SUMMARY:Bomber und Bomben
DESCRIPTION:&lt;p&gt;Mit der Firma Dornier siedelte sich in den 1930er Jahren einer der größten Flugzeugbauer Deutschlands in Neuaubing an. Als &quot;Kriegsmusterbetrieb&quot; war man maßgeblich am Aufbau der Luftwaffe beteiligt. An der Serienproduktion von Kampfflugzeugen waren neben der deutschen Belegschaft auch zahlreiche Zwangsarbeiter aus vielen europäischen Ländern beteiligt. Gezeigt werden in einem virtuellen Rundgang das historische Firmengelände sowie noch bis in jüngste Zeit erhaltene Relikte. Anhand von Berichten von Zeitzeug*innen und Dokumenten wird die Geschichte des Werks in der NS-Zeit rekonstruiert.&lt;/p&gt; 
DTSTART:20220323T180000
DTEND:20220323T193000
LOCATION:Volkshochschule, Bäckerstr. 14
ORGANIZER:MVHS
END:VEVENT
END:VCALENDAR