BEGIN:VCALENDAR
VERSION:2.0
PRODID:-//Stadtgeschichte München//DE
CALSCALE:GREGORIAN
BEGIN:VEVENT
UID:20956@stadtgeschichte-muenchen.de
SUMMARY:Das Paketpost-Areal - nicht nur eine Frage der Höhe
DESCRIPTION:&lt;p&gt;Nördlich der Friedenheimerbrücke wird in den nächsten Jahren ein neues, urbanes Quartier entstehen. Neben zwei 155-Meter-Türmen soll als Herz des Quartiers das Baudenkmal Paketposthalle zu einem öffentlichen Ort mit Schwerpunkt kultureller, aber auch sozialer und sportlicher Nutzung werden. Zudem ist vorgesehen, dass auf dem Areal ca. 1100 Wohnungen sowie rund 3000 Arbeitsplätze entstehen. Diskutieren Sie den aktuellen Planungsstand mit Vertreter*innen der Politik, der Stadtverwaltung, von Bürgerplattformen und Investoren. Besprechen Sie dabei Fragen zu Ökologie und Nachhaltigkeit, Verkehrsentwicklung, sozialem Wohnungsbau, die Gestaltung der Grün- und Freiflächen etc.&lt;/p&gt; &lt;p&gt;In Kooperation mit dem Verein für Stadtteilkultur Neuhausen-Nymphenburg.&lt;/p&gt; 
DTSTART:20220524T190000
DTEND:20220524T213000
LOCATION:
ORGANIZER:MVHS
END:VEVENT
END:VCALENDAR