BEGIN:VCALENDAR
VERSION:2.0
PRODID:-//Stadtgeschichte München//DE
CALSCALE:GREGORIAN
BEGIN:VEVENT
UID:2097@stadtgeschichte-muenchen.de
SUMMARY:Von Grünwald nach Höllriegelskreuth
DESCRIPTION:&lt;p&gt;Der Rundgang führt von der Grünwalder Brücke, entlang der Höll-riegelskreuther Hochleite zum .Sternheimschlößchen\' - mit Wende auf&amp;nbsp;der Höhe der historischen Römerstraße - durch den Talgrund und Diefenbachsteinbruch - mit Einkehrmöglichkeit im Brückenwirt über die&amp;nbsp;Grünwalder Brücke zurück. Festes Schuhwerk und ggf. Stock sind empfehlenswert.&lt;/p&gt; 
DTSTART:20120622T140000
DTEND:20120622T170000
LOCATION:Beginn Grünwalder Brücke, an der Nepomukstatue
ORGANIZER:MVHS München Ost
END:VEVENT
END:VCALENDAR