BEGIN:VCALENDAR
VERSION:2.0
PRODID:-//Stadtgeschichte München//DE
CALSCALE:GREGORIAN
BEGIN:VEVENT
UID:2098@stadtgeschichte-muenchen.de
SUMMARY:Die Grünwalder Römerschanze und die Kloster und Burganlage Schäftlarn
DESCRIPTION:&lt;div&gt;In der Vergangenheit bildete die geschichtstr&amp;auml;chtige Siedlungslandschaft um Sch&amp;auml;ftlarn (monasterium, villa und oppidum Sceftilari)&amp;nbsp;zeitweise einen Funktionskomplex mit der Anlage um die Gr&amp;uuml;nwalder &amp;bdquo;R&amp;ouml;merschanze&amp;quot;. Hochinteressant ist in diesem Zusammenhang&amp;nbsp;besonders die karolingerzeitliche Ringwall-Abschnittsbefestigung &amp;bdquo;Birg&amp;quot; auf einer bewaldeten Bergzunge &amp;uuml;ber der westlichen Isar-Talaue.&amp;nbsp;Es handelt sich um ein gewaltiges, noch heute beeindruckendes Befestigungswerk von rund 8 ha Innenfl&amp;auml;che, das in Sichtweite der nur&amp;nbsp;3 km nord&amp;ouml;stlich enfernten Gr&amp;uuml;nwalder &amp;bdquo;R&amp;ouml;merschanze&amp;quot; liegt. Neben der &amp;bdquo;Birg&amp;quot; sind unter anderem der Kirchberg in Hohensch&amp;auml;ftlarn und&amp;nbsp;Kloster Sch&amp;auml;ftlarn mit Besuch der Klosterkirche Ziel der Wanderung.&lt;/div&gt; &lt;div&gt;Die Wanderung findet bei jedem Wetter statt, bitte auf angemessene Kleidung und festes Schuhwerk achten.&lt;/div&gt;
DTSTART:20120721T094500
DTEND:20120721T160000
LOCATION:S-Bahnhof Hohenschäftlarn (Bahnsteigmitte) 
ORGANIZER:MVHS München Mitte   
END:VEVENT
END:VCALENDAR