BEGIN:VCALENDAR
VERSION:2.0
PRODID:-//Stadtgeschichte München//DE
CALSCALE:GREGORIAN
BEGIN:VEVENT
UID:20983@stadtgeschichte-muenchen.de
SUMMARY:Die Renatastraße - a bisserl proletarisch, a bisserl vornehm
DESCRIPTION:&lt;p&gt;Seit mehr als 120 Jahren gibt es in Neuhausen die Renatastraße, in der unterschiedliche soziale Schichten aufeinander treffen: die klassische Arbeiterbevölkerung in ihren Mietskasernen und das Großbürgertum mit seinen luxuriösen Villen. Geschichte und Geschichten aus einer Straße mit zwei Gesichtern.&lt;/p&gt; &lt;p&gt;In Zusammenarbeit mit der Geschichtswerkstatt Neuhausen e. V.&lt;/p&gt; &lt;p&gt;&amp;nbsp;&lt;/p&gt; 
DTSTART:20220619T110000
DTEND:20220619T130000
LOCATION:vor der Kirche St. Clemens, Renatastr. 7
ORGANIZER:MVHS
END:VEVENT
END:VCALENDAR