BEGIN:VCALENDAR
VERSION:2.0
PRODID:-//Stadtgeschichte München//DE
CALSCALE:GREGORIAN
BEGIN:VEVENT
UID:20996@stadtgeschichte-muenchen.de
SUMMARY:Spaziergang Kurfürstenweg
DESCRIPTION:&lt;p&gt;Dieser ausgiebige mehrstündige Spaziergang spricht Kultur- wie Naturschutzaspekte an und verläuft immer wieder auf einem der schon fast vergessenen Münchner Umweltwanderwege. Die Tour beginnt an der Haltestelle Amalienburgstraße der Trambahnlinie 17. Wir streifen das Landschaftsschutzgebiet Kapuzinerhölzl und gehen anschließend durch den Westteil des Nymphenburger Schlossparks, den wir westlich der Großen Kaskade verlassen und zum Pasing-Nymphenburg-Kanal gehen. Wir folgen diesem ein gutes Stück. Später geht es an die Würm und an dieser entlang nach Süden bis zur Ausleitung des Pasing-Nymphenburger Kanals aus der Würm. Die Wanderung endet nahe der Bodenseestraße.&lt;/p&gt; &lt;p&gt;Die Länge der Tour beträgt ca. 8 km.&lt;/p&gt; 
DTSTART:20220625T100000
DTEND:20220625T143000
LOCATION:Endhaltestelle der Trambahnlinie 17, Amalienburgstr.
ORGANIZER:MVHS
END:VEVENT
END:VCALENDAR