BEGIN:VCALENDAR
VERSION:2.0
PRODID:-//Stadtgeschichte München//DE
CALSCALE:GREGORIAN
BEGIN:VEVENT
UID:210@stadtgeschichte-muenchen.de
SUMMARY:Das alte Schwabing
DESCRIPTION:&lt;p&gt;Schwabing war einstmals ein Fischer- und Bauerndorf vor den Toren der Stadt M&amp;uuml;nchen. Im 18. Jahrhundert bauten Adelige hier ihre Landh&amp;auml;user, wie das Suresnes-Schl&amp;ouml;sschen. Im 19. Jahrhundert zog es K&amp;uuml;nstler und Studenten an die nahen Universit&amp;auml;ten. Unser Spaziergang f&amp;uuml;hrt zu den damaligen Wohnst&amp;auml;tten bekannter und ber&amp;uuml;hmt gewordener Pers&amp;ouml;nlichkeiten sowie zu den Resten der d&amp;ouml;rflichen Bebauung. Teilweise k&amp;ouml;nnen wir sie nur noch erahnen, aber vielfach sehen wir sie deutlich, die Entwicklung Schwabings vom stillen Dorf zum lebhaften Stadtteil.&lt;/p&gt;
DTSTART:20110617T160000
DTEND:20110617T180000
LOCATION:U-Bahnstation Giselastr., Ausgang Martiusstr. 
ORGANIZER:MVHS München Mitte   
END:VEVENT
END:VCALENDAR