BEGIN:VCALENDAR
VERSION:2.0
PRODID:-//Stadtgeschichte München//DE
CALSCALE:GREGORIAN
BEGIN:VEVENT
UID:21006@stadtgeschichte-muenchen.de
SUMMARY:Die Pasinger Villenkolonien von August Exter
DESCRIPTION:&lt;p&gt;Die am Ende des 19. Jahrhunderts nördlich der Bahnlinie errichteten Kolonien I und II werden in ihrem historischen, kulturellen und kunsthistorischen Zusammenhang vorgestellt. Die heute meist denkmalgeschützten Exter-Bauten werden mit entsprechenden Originaldokumenten, Bildern, Zeitungsartikeln etc. veranschaulicht und erläutert. Aktuelle Fotos dokumentieren die bereits bestehenden Veränderungen einzelner Straßenzüge und Häuser(-Gruppen). Auch die Pläne zur Nachverdichtung in Münchens Gartenstädten werden thematisiert.&lt;/p&gt; &lt;p&gt;&amp;nbsp;&lt;/p&gt; 
DTSTART:02000406T180000
DTEND:02000406T000019
LOCATION:Volkshochschule, Bäckerstr. 14
ORGANIZER:MVHS
END:VEVENT
END:VCALENDAR